BEGIN:VCALENDAR
VERSION:2.0
PRODID:-//Sons of Norway Colorado Springs - ECPv6.15.20//NONSGML v1.0//EN
CALSCALE:GREGORIAN
METHOD:PUBLISH
X-ORIGINAL-URL:https://sonsofnorwaycs.com
X-WR-CALDESC:Events for Sons of Norway Colorado Springs
REFRESH-INTERVAL;VALUE=DURATION:PT1H
X-Robots-Tag:noindex
X-PUBLISHED-TTL:PT1H
BEGIN:VTIMEZONE
TZID:America/Denver
BEGIN:DAYLIGHT
TZOFFSETFROM:-0700
TZOFFSETTO:-0600
TZNAME:MDT
DTSTART:20240310T090000
END:DAYLIGHT
BEGIN:STANDARD
TZOFFSETFROM:-0600
TZOFFSETTO:-0700
TZNAME:MST
DTSTART:20241103T080000
END:STANDARD
BEGIN:DAYLIGHT
TZOFFSETFROM:-0700
TZOFFSETTO:-0600
TZNAME:MDT
DTSTART:20250309T090000
END:DAYLIGHT
BEGIN:STANDARD
TZOFFSETFROM:-0600
TZOFFSETTO:-0700
TZNAME:MST
DTSTART:20251102T080000
END:STANDARD
BEGIN:DAYLIGHT
TZOFFSETFROM:-0700
TZOFFSETTO:-0600
TZNAME:MDT
DTSTART:20260308T090000
END:DAYLIGHT
BEGIN:STANDARD
TZOFFSETFROM:-0600
TZOFFSETTO:-0700
TZNAME:MST
DTSTART:20261101T080000
END:STANDARD
END:VTIMEZONE
BEGIN:VEVENT
DTSTART;VALUE=DATE:20251107
DTEND;VALUE=DATE:20251109
DTSTAMP:20260422T015041
CREATED:20250722T213859Z
LAST-MODIFIED:20251022T182903Z
UID:11429-1762473600-1762646399@sonsofnorwaycs.com
SUMMARY:Trollheim Christmas Fair
DESCRIPTION:If you’re looking to do some special Christmas shopping\, you’ll want to check out the “Trollheim Christmas Fair”\nNovember 7th & 8th\, 2025 \nDoors open at 10:00 am  until 3:00 pm \nAdmission: $2.00 | Children under 12: Free \n(303) 232-1700 \ninfo@trollheimlodge.com \n  \nShopping\nPlease note: Some vendors may only accept checks or cash \nShop for gifts. Shop for yourself. Shop at over 15 vendors. Shop at our Butikken. We have a wide variety of merchandise so… SHOP TILL YOU DROP! \nEnjoy shopping in our Wonderland of Scandinavia at the Trollheim Lodge\, in Lakewood.  Details later.
URL:https://sonsofnorwaycs.com/event/trollheim-christmas-fair-2/
LOCATION:Trollheim Lodge\, 6610 West 14th Ave.\, Denver\, CO\, 80214\, United States
ATTACH;FMTTYPE=image/jpeg:https://sonsofnorwaycs.com/wp-content/uploads/2025/07/Trollheim-Christmas-Fair-header.jpg
END:VEVENT
END:VCALENDAR