BEGIN:VCALENDAR
VERSION:2.0
PRODID:-//Sons of Norway Colorado Springs - ECPv6.15.20//NONSGML v1.0//EN
CALSCALE:GREGORIAN
METHOD:PUBLISH
X-WR-CALNAME:Sons of Norway Colorado Springs
X-ORIGINAL-URL:https://sonsofnorwaycs.com
X-WR-CALDESC:Events for Sons of Norway Colorado Springs
REFRESH-INTERVAL;VALUE=DURATION:PT1H
X-Robots-Tag:noindex
X-PUBLISHED-TTL:PT1H
BEGIN:VTIMEZONE
TZID:America/Denver
BEGIN:DAYLIGHT
TZOFFSETFROM:-0700
TZOFFSETTO:-0600
TZNAME:MDT
DTSTART:20230312T090000
END:DAYLIGHT
BEGIN:STANDARD
TZOFFSETFROM:-0600
TZOFFSETTO:-0700
TZNAME:MST
DTSTART:20231105T080000
END:STANDARD
BEGIN:DAYLIGHT
TZOFFSETFROM:-0700
TZOFFSETTO:-0600
TZNAME:MDT
DTSTART:20240310T090000
END:DAYLIGHT
BEGIN:STANDARD
TZOFFSETFROM:-0600
TZOFFSETTO:-0700
TZNAME:MST
DTSTART:20241103T080000
END:STANDARD
BEGIN:DAYLIGHT
TZOFFSETFROM:-0700
TZOFFSETTO:-0600
TZNAME:MDT
DTSTART:20250309T090000
END:DAYLIGHT
BEGIN:STANDARD
TZOFFSETFROM:-0600
TZOFFSETTO:-0700
TZNAME:MST
DTSTART:20251102T080000
END:STANDARD
END:VTIMEZONE
BEGIN:VEVENT
DTSTART;TZID=America/Denver:20240518T080000
DTEND;TZID=America/Denver:20240518T170000
DTSTAMP:20260423T005841
CREATED:20240327T224558Z
LAST-MODIFIED:20240327T225636Z
UID:9929-1716019200-1716051600@sonsofnorwaycs.com
SUMMARY:Syttende Mai Celebration
DESCRIPTION:The Fjelldalen Lodge #6-162 is sponsoring the\nSyttende Mai Celebration – Norway’s Constitution Day\nJoin us for food and fun at the Sterne Park. Go south on Bemis Street off Littleton Blvd. to Sheppard Ave.\, turn left and look for the Norwegian Flag and Fjelldalen canopy. \nThere will be many traditional foods; Polser hot dogs\, Lefse\, Rokt laks smoked salmon\, Potetsalat\, Sursild Pickled Herring\, Geitost Goat Cheese\, Knekkebrod Crispbread\, Valero Heart Waffles\, Tyttebaer Lingonberries\, Iskrem Ice Cream\, Kaffe Coffee. \nHot Dog line opens after the parade. \n\nDonations of $20 per adult\, children 12 and under $5. \nRSVP to: publicity@fjelldalen.com by May 13th \nYou can mail your check to: \nFjelldalen Lodge \n6392 S. Reed Way \nLittleton\, CO 80123
URL:https://sonsofnorwaycs.com/event/syttende-mai-celebration-norways-constitution-day/
LOCATION:CO
ATTACH;FMTTYPE=image/jpeg:https://sonsofnorwaycs.com/wp-content/uploads/2024/03/Syttende-Mai-Flyer.jpg
END:VEVENT
BEGIN:VEVENT
DTSTART;TZID=America/Denver:20240508T080000
DTEND;TZID=America/Denver:20240508T170000
DTSTAMP:20260423T005841
CREATED:20240327T234448Z
LAST-MODIFIED:20240327T234448Z
UID:9979-1715155200-1715187600@sonsofnorwaycs.com
SUMMARY:COMING SOON!
DESCRIPTION:Coming soon to Fjellheim Lodge!\nMay 8th\, 2024  \nThe Advanced Norwegian students will proudly present a Norwegian Readers Theatre (with translation)\, the first chapter of Ole Aleksander Filibom-bom-bom\, the first children’s book Anne Vestly wrote in 1953. Anne-Cath. Vestly (February 15\, 1920 – December 15\, 2008) was a Norwegian author of children’s literature. She has won many awards including \nRoyal Norwegian Order of St. Olav (Knight\, First Class) 1992.
URL:https://sonsofnorwaycs.com/event/coming-soon/
LOCATION:CO
ATTACH;FMTTYPE=image/jpeg:https://sonsofnorwaycs.com/wp-content/uploads/2024/03/Filibom-bom-bom.jpeg
END:VEVENT
BEGIN:VEVENT
DTSTART;TZID=America/Denver:20240414T110000
DTEND;TZID=America/Denver:20240414T140000
DTSTAMP:20260423T005841
CREATED:20240304T234414Z
LAST-MODIFIED:20240327T230707Z
UID:9811-1713092400-1713103200@sonsofnorwaycs.com
SUMMARY:Frokost - An Authentic Norwegian Breakfast
DESCRIPTION:Let’s Celebrate Spring!\nMenu lovingly prepared by your fellow lodge members who wish you a hearty… Velkommen til bords! \nSunday\, April 14\, 2024 – 11:00 a.m. or 2:00 p.m.  \nBaked honey ham\, roast beef\, liver sausage\, salami\, roast pork\, head cheese\, gjetost\, jarlsberg\, Swiss cheese\, bondost\, tomato aspic\, coleslaw\, pickled herring\, sardines\, smoked salmon\, scrambled eggs\, deviled eggs\, salmon mousse\, shrimp salad\, potato salad\, cucumber salad\, pickled beets\, dill pickles\, lingonberries\, waffles\, fresh fruit\, lefse\, julekake\, cardamom bread\, apple cake\, flat bread\, knekkebrod\, coffee\, and orange juice.  \nMembers: $25.00 |  Non-Members: $27.00  \nStudents: Age 10 – 18: $12.00  |  Children: <10 – no charge  \nClick here to view and download the PDF form.
URL:https://sonsofnorwaycs.com/event/frokost-an-authentic-norwegian-breakfast/
LOCATION:Frokost – An Authentic Norwegian Breakfast\, 1045 Ford Street\, Colorado Springs\, CO\, 80915\, United States
ATTACH;FMTTYPE=image/jpeg:https://sonsofnorwaycs.com/wp-content/uploads/2024/03/AdobeStock_301485282_Preview.jpeg
END:VEVENT
BEGIN:VEVENT
DTSTART;TZID=America/Denver:20240402T123000
DTEND;TZID=America/Denver:20240402T150000
DTSTAMP:20260423T005841
CREATED:20240327T233535Z
LAST-MODIFIED:20240327T233535Z
UID:9967-1712061000-1712070000@sonsofnorwaycs.com
SUMMARY:Potluck and Cards
DESCRIPTION:Please join your friends on the first Tuesday in April for a potluck lunch followed by cards.  \nLunch served at 12:30 the card game will afterwards. \n \nSee you then!  A good time is always had by all!
URL:https://sonsofnorwaycs.com/event/potluck-and-cards/
LOCATION:Fjellheim Lodge\, 1045 Ford Street\, Colorado Springs\, CO\, 80915\, United States
ATTACH;FMTTYPE=image/jpeg:https://sonsofnorwaycs.com/wp-content/uploads/2024/03/Playing-Cards_sm.jpg
END:VEVENT
BEGIN:VEVENT
DTSTART;TZID=America/Denver:20240316T140000
DTEND;TZID=America/Denver:20240316T150000
DTSTAMP:20260423T005841
CREATED:20240213T162257Z
LAST-MODIFIED:20240213T162907Z
UID:9595-1710597600-1710601200@sonsofnorwaycs.com
SUMMARY:Scandinavian Winter Tea
DESCRIPTION:Fjellheim Lodge – Sons of Norway \n1045 Ford Street \, Colorado Springs\, CO  \nSaturday\, March 16\, 2024  \nAt 2:00 PM  \n$25 per person  \n  \nRSVP Required and Space is Limited \nContact Kathie @719-229-9289  \n  \nMake checks payable to: Sons of Norway  \nSend checks to: Kathie Godsil  \n4415 Flat Top Place\, Colorado Springs\, CO 80923 
URL:https://sonsofnorwaycs.com/event/scandinavian-winter-tea/
LOCATION:CO
ATTACH;FMTTYPE=image/jpeg:https://sonsofnorwaycs.com/wp-content/uploads/2024/02/tea-cup.jpg
END:VEVENT
END:VCALENDAR