BEGIN:VCALENDAR
VERSION:2.0
PRODID:-//Sons of Norway Colorado Springs - ECPv6.15.20//NONSGML v1.0//EN
CALSCALE:GREGORIAN
METHOD:PUBLISH
X-ORIGINAL-URL:https://sonsofnorwaycs.com
X-WR-CALDESC:Events for Sons of Norway Colorado Springs
REFRESH-INTERVAL;VALUE=DURATION:PT1H
X-Robots-Tag:noindex
X-PUBLISHED-TTL:PT1H
BEGIN:VTIMEZONE
TZID:America/Denver
BEGIN:DAYLIGHT
TZOFFSETFROM:-0700
TZOFFSETTO:-0600
TZNAME:MDT
DTSTART:20240310T090000
END:DAYLIGHT
BEGIN:STANDARD
TZOFFSETFROM:-0600
TZOFFSETTO:-0700
TZNAME:MST
DTSTART:20241103T080000
END:STANDARD
BEGIN:DAYLIGHT
TZOFFSETFROM:-0700
TZOFFSETTO:-0600
TZNAME:MDT
DTSTART:20250309T090000
END:DAYLIGHT
BEGIN:STANDARD
TZOFFSETFROM:-0600
TZOFFSETTO:-0700
TZNAME:MST
DTSTART:20251102T080000
END:STANDARD
BEGIN:DAYLIGHT
TZOFFSETFROM:-0700
TZOFFSETTO:-0600
TZNAME:MDT
DTSTART:20260308T090000
END:DAYLIGHT
BEGIN:STANDARD
TZOFFSETFROM:-0600
TZOFFSETTO:-0700
TZNAME:MST
DTSTART:20261101T080000
END:STANDARD
BEGIN:DAYLIGHT
TZOFFSETFROM:-0700
TZOFFSETTO:-0600
TZNAME:MDT
DTSTART:20270314T090000
END:DAYLIGHT
BEGIN:STANDARD
TZOFFSETFROM:-0600
TZOFFSETTO:-0700
TZNAME:MST
DTSTART:20271107T080000
END:STANDARD
END:VTIMEZONE
BEGIN:VEVENT
DTSTART;VALUE=DATE:20251107
DTEND;VALUE=DATE:20251109
DTSTAMP:20260421T235627
CREATED:20250722T213859Z
LAST-MODIFIED:20251022T182903Z
UID:11429-1762473600-1762646399@sonsofnorwaycs.com
SUMMARY:Trollheim Christmas Fair
DESCRIPTION:If you’re looking to do some special Christmas shopping\, you’ll want to check out the “Trollheim Christmas Fair”\nNovember 7th & 8th\, 2025 \nDoors open at 10:00 am  until 3:00 pm \nAdmission: $2.00 | Children under 12: Free \n(303) 232-1700 \ninfo@trollheimlodge.com \n  \nShopping\nPlease note: Some vendors may only accept checks or cash \nShop for gifts. Shop for yourself. Shop at over 15 vendors. Shop at our Butikken. We have a wide variety of merchandise so… SHOP TILL YOU DROP! \nEnjoy shopping in our Wonderland of Scandinavia at the Trollheim Lodge\, in Lakewood.  Details later.
URL:https://sonsofnorwaycs.com/event/trollheim-christmas-fair-2/
LOCATION:Trollheim Lodge\, 6610 West 14th Ave.\, Denver\, CO\, 80214\, United States
ATTACH;FMTTYPE=image/jpeg:https://sonsofnorwaycs.com/wp-content/uploads/2025/07/Trollheim-Christmas-Fair-header.jpg
END:VEVENT
BEGIN:VEVENT
DTSTART;TZID=America/Denver:20251115T130000
DTEND;TZID=America/Denver:20251115T180000
DTSTAMP:20260421T235627
CREATED:20250722T214814Z
LAST-MODIFIED:20251031T170816Z
UID:11432-1763211600-1763229600@sonsofnorwaycs.com
SUMMARY:Annual Lutefisk and Meatball Dinner
DESCRIPTION:If you are a Scandinavian\, this is an event you don’t want to miss!\n \nOur Lutefisk and Meatball Dinner has been a tradition for many\, many years in the Colorado Springs community. We hope we’ll see you there. \n\nFirst Seating – 1:00\nSecond Seating – 4:00\n\n  \nPayment Option for Reservations only (Circle to indicate your choice):  \n√ Check: Make out to Sons of Norway  \n√ Pay at the door.—Cash or Credit Card  \nMail reservations to Karen Ravnaas\, 5295 Water Dipper Rd\, Colorado Springs\, CO 80911 by November 12\, 2025. After that date\, call Karen @ 719-390-0621 for space availability and registration.  \nNOTES/Special Requests: \n   2025 10 Oct Flammen
URL:https://sonsofnorwaycs.com/event/annual-lutefisk-and-meatball-dinner/
LOCATION:Fjellheim Lodge\, 1045 Ford Street\, Colorado Springs\, CO\, 80915\, United States
ATTACH;FMTTYPE=image/jpeg:https://sonsofnorwaycs.com/wp-content/uploads/2024/02/IMG_1348_1000.jpg
END:VEVENT
BEGIN:VEVENT
DTSTART;TZID=America/Denver:20251213T133000
DTEND;TZID=America/Denver:20251213T160000
DTSTAMP:20260421T235628
CREATED:20250722T215159Z
LAST-MODIFIED:20250722T215422Z
UID:11435-1765632600-1765641600@sonsofnorwaycs.com
SUMMARY:Family Christmas Potluck
DESCRIPTION:Join us for this special Family Christmas Potluck\nCome in your favorite Scandinavian Christmas clothing and celebrate the season with your Sons of Norway friends. \nSocial begins @ 1:30 p.m. and dinner @ 2:00 pm \n \nThe Sons of Norway Lodge will provide the main course.\n \nReservations: Contact Karen @ 719-390-0621 for space availability
URL:https://sonsofnorwaycs.com/event/family-christmas-potluck/
LOCATION:Fjellheim Lodge\, 1045 Ford Street\, Colorado Springs\, CO\, 80915\, United States
ATTACH;FMTTYPE=image/jpeg:https://sonsofnorwaycs.com/wp-content/uploads/2024/12/Serving-line.jpg
END:VEVENT
BEGIN:VEVENT
DTSTART;TZID=America/Denver:20260214T140000
DTEND;TZID=America/Denver:20260214T160000
DTSTAMP:20260421T235628
CREATED:20260130T003233Z
LAST-MODIFIED:20260130T004510Z
UID:12057-1771077600-1771084800@sonsofnorwaycs.com
SUMMARY:Valentine's Day Walleye Fish Fry
DESCRIPTION:Join us for our Annual Valentine’s Day Walleye Fish Fry\nSaturday\, February 14\, 2026 at 2:00 pm \n    \nMenu: Walleye\, Pulled Pork\, Baked Potato\, Cole Slaw\, Fresh Rolls\, Dessert \nDinner Reservations: Seated is limited \n  \nCost:\nMember: $22.00 \nNon-Members/Guests: $25.00 \nStudent: Age 10-16 \nChildren under 10: FREE \n  \nPayment Options: \nMake your check out to: Sons of Norway and \nMail it to: Karen Ravaas – 5295 Water Dipper Road\, Colorado Springs\, CO 80911-3479 \nCash\, Visa\, Mastercard: Pay at the door \n  \n  Click to download
URL:https://sonsofnorwaycs.com/event/valentines-day-walleye-fish-fry/
LOCATION:Fjellheim Lodge\, 1045 Ford Street\, Colorado Springs\, CO\, 80915\, United States
ATTACH;FMTTYPE=image/png:https://sonsofnorwaycs.com/wp-content/uploads/2026/01/Valentine-Fish-Fry-Image.png
END:VEVENT
BEGIN:VEVENT
DTSTART;TZID=America/Denver:20260321T140000
DTEND;TZID=America/Denver:20260321T153000
DTSTAMP:20260421T235628
CREATED:20260119T181804Z
LAST-MODIFIED:20260119T185230Z
UID:12021-1774101600-1774107000@sonsofnorwaycs.com
SUMMARY:Scandinavian Spring Tea
DESCRIPTION:Join us for this very special event\, our Annual Scandinavian Spring Tea \nEach year\, we look forward to hosting this beloved gathering. It is one of our most popular events and always sells out\, so we truly hope you can join us this year. Guests will enjoy live music throughout the event\, adding to the warm and festive atmosphere. \nEach table is uniquely decorated with its own special theme. Below are photos from last year’s event for a glimpse of what awaits. \nWe encourage you to bring your spring bouquet and dress in your favorite spring attire. \nCost: $25 a person \n(Make checks payable to ‘Sons of Norway’. Mail to: Kathie Godsil\, 4415  Flat Top Place\, Colorado Springs\, CO 80923) \nRSVP Required – Space is limited \nto RSVP contact Kathie 719-229-9289 \n  \n \n  \n \n\n                  
URL:https://sonsofnorwaycs.com/event/scandinavian-spring-tea/
LOCATION:Fjellheim Lodge\, 1045 Ford Street\, Colorado Springs\, CO\, 80915\, United States
ATTACH;FMTTYPE=image/png:https://sonsofnorwaycs.com/wp-content/uploads/2026/01/Scandinavia-Spring-Tea_Poster_sm-1.png
END:VEVENT
BEGIN:VEVENT
DTSTART;TZID=America/Denver:20260412T110000
DTEND;TZID=America/Denver:20260412T130000
DTSTAMP:20260421T235628
CREATED:20260227T171610Z
LAST-MODIFIED:20260401T204222Z
UID:12145-1775991600-1775998800@sonsofnorwaycs.com
SUMMARY:Scandinavia Frokost Event
DESCRIPTION:The Fjellheim Lodge (Sons of Norway) in Colorado Springs hosts an annual “Frokost\,”\nAn authentic Norwegian cold-style breakfast buffet featuring over 40 dishes. \nBaked honey ham\, roast beef\, liver sausage\, salami\, roast pork\, head cheese\, gjetost\, jarlsberg\, other assorted cheeses\, tomato aspic\, coleslaw\, pickled herring\, sardines\, oysters\, smoked salmon\, assorted eggs\, salmon mousse\, shrimp salad\, potato salad\, cucumber salad\, assorted beets & pickles\, lingonberry jam and waffles\, fresh fruit\, Total crisp\, lefse\, julekake\, cardamom bread\, knekkebrod\, apple cake and other assorted desserts\, coffee\, and orange juice. \nHeld at Viking Hall\, this popular event typically offers multiple seatings\, with registration. \n  \n     \n\nMembers: $25.00 \nNon-Members: $27.00 \nStudents:10 – 16: $12.00 \nChildren: <10 – no charge\n\nLimit of 150 people. \nReservations: Contact Karen Ravnaas directly at 719-390-0621 \n  Click here to download form. \n 
URL:https://sonsofnorwaycs.com/event/scandinavia-frokost-event/
LOCATION:Fjellheim Lodge\, 1045 Ford Street\, Colorado Springs\, CO\, 80915\, United States
ATTACH;FMTTYPE=image/jpeg:https://sonsofnorwaycs.com/wp-content/uploads/2026/02/Food-at-Frokost-2025.jpg
END:VEVENT
END:VCALENDAR